BEGIN:VCALENDAR
PRODID:-//kirchenweb.ch gmbh//veranstaltungsausgabe v2.0//DE
VERSION:2.0
METHOD:PUBLISH
BEGIN:VEVENT
DTSTART:20250119T100000Z
DTEND:20250119T110000Z
LOCATION:Kirchgemeindehaus\, Untere Heslibachstrasse 5\, 8700 Küsnacht
TRANSP:OPAQUE
SEQUENCE:0
UID:9991-veranstaltung@rkk.ch
DTSTAMP:20250108T155655Z
DESCRIPTION:Kontakt: alena.fuhrer@rkk.ch\n\nWeitere Infos:
  https://www.rkk.ch/veranstaltung/9991
SUMMARY:Kirchenkaffee
PRIORITY:5
X-MICROSOFT-CDO-IMPORTANCE:1
CLASS:PUBLIC
END:VEVENT
END:VCALENDAR
