BEGIN:VCALENDAR
PRODID:-//kirchenweb.ch gmbh//veranstaltungsausgabe v2.0//DE
VERSION:2.0
METHOD:PUBLISH
BEGIN:VEVENT
DTSTART:20260514T082500Z
DTEND:20260514T092500Z
LOCATION:Ankunft 10.25 Uhr: Forsthaus Erlenbach\, \,
TRANSP:OPAQUE
SEQUENCE:0
UID:17792-veranstaltung@rkk.ch
DTSTAMP:20260323T153807Z
DESCRIPTION:Route:\n09.50 Limberg\n09.55 Station Forch \n10.07 Itschnach
  Dorf \n10.10 AGZ Tägerhalde \n10.15 Kirchgemeindehaus Dorf\n10.25
  Forsthaus Erlenbach\, Ankunft\nRückfahrt nach dem Grill\, ca. 12.30
  Uhr\, gleiche Route\n\n\nKontakt: Pfr. Fabian Wildenauer\n\nWeitere
  Infos: https://www.rkk.ch/veranstaltung/17792
SUMMARY:Kirchenbus nach Forsthaus Erlenbach
PRIORITY:5
X-MICROSOFT-CDO-IMPORTANCE:1
CLASS:PUBLIC
END:VEVENT
END:VCALENDAR
