BEGIN:VCALENDAR
PRODID:-//kirchenweb.ch gmbh//veranstaltungsausgabe v2.0//DE
VERSION:2.0
METHOD:PUBLISH
BEGIN:VEVENT
DTSTART:20251125T172000Z
DTEND:20251125T181000Z
LOCATION:Jürgehus\, \,
TRANSP:OPAQUE
SEQUENCE:0
UID:17433-veranstaltung@rkk.ch
DTSTAMP:20251124T152927Z
DESCRIPTION:Kontakt: Pfrn. Jenny Laske\, 044 914 20 48\n\nWeitere Infos:
  https://www.rkk.ch/veranstaltung/17433
SUMMARY:Sitzung zum Thema Zusammenarbeit
PRIORITY:5
X-MICROSOFT-CDO-IMPORTANCE:1
CLASS:PUBLIC
END:VEVENT
END:VCALENDAR
