BEGIN:VCALENDAR
PRODID:-//kirchenweb.ch gmbh//veranstaltungsausgabe v2.0//DE
VERSION:2.0
METHOD:PUBLISH
BEGIN:VEVENT
DTSTART:20251119T103000Z
DTEND:20251119T113000Z
LOCATION:Jürgehus\, \,
TRANSP:OPAQUE
SEQUENCE:0
UID:17403-veranstaltung@rkk.ch
DTSTAMP:20251119T101934Z
DESCRIPTION:Kontakt: Pfrn. Jenny Laske\, 044 914 20 48\n\nWeitere Infos:
  https://www.rkk.ch/veranstaltung/17403
SUMMARY:Sitzung: Weihnachtssingtagen 2025
PRIORITY:5
X-MICROSOFT-CDO-IMPORTANCE:1
CLASS:PUBLIC
END:VEVENT
END:VCALENDAR
