BEGIN:VCALENDAR
PRODID:-//kirchenweb.ch gmbh//veranstaltungsausgabe v2.0//DE
VERSION:2.0
METHOD:PUBLISH
BEGIN:VEVENT
DTSTART:20260513T123000Z
DTEND:20260513T153000Z
LOCATION:Kirchgemeindehaus\, Untere Heslibachstrasse 5\, 8700 Küsnacht
TRANSP:OPAQUE
SEQUENCE:0
UID:17295-veranstaltung@rkk.ch
DTSTAMP:20260402T063216Z
DESCRIPTION:Vortrag\nFrau Monika Kienast beantwortet Fragen\, wie sich die
  Situation von Reich + Arm\, Mann + Frau\, Stadt + Land in früher Zeit
  entwickelt hat. Mit ihr streifen Sie durchs alte Europa vom Jahr 800 bis
  1800. Zürich und Züribiet sind öfters Beispiele für allgemeine
  Entwicklungen. \nHier einige Beispiele der Fragen:\n•	Wie kam es zur
  verbreiteten Leibeigenschaft? Warum bildeten sich neue Städte? Warum
  wurde die alte Stände-Ordnung gesprengt? Warum wuchsen Städte zu
  Stadtstaaten? Wie entwickelte sich die Situation der Frauen in Stadt +
  Land?\n•	Was erlebte Europa in der Neuzeit noch neben Renaissance\,
  Reformation\, Kolonialisierung? Einerseits Rückschritte zur alten
  Reich-Arm- und Mann-Frau-Ordnung! Andererseits die Ära Textile
  Heimarbeit! Wie nur wuchsen so viele Regionen zu bedeutenden
  Textilregionen?\n\nAnschliessend sind Sie zu Kaffee und Kuchen eingeladen
 \n\nKontakt: Sandra Stylianou\, 044 914 20 45\n\nWeitere Infos:
  https://www.rkk.ch/veranstaltung/17295
SUMMARY:Kultur am Nachmittag: Arm und Reich im alten Zürich
PRIORITY:5
X-MICROSOFT-CDO-IMPORTANCE:1
CLASS:PUBLIC
END:VEVENT
END:VCALENDAR
