BEGIN:VCALENDAR
PRODID:-//kirchenweb.ch gmbh//veranstaltungsausgabe v2.0//DE
VERSION:2.0
METHOD:PUBLISH
BEGIN:VEVENT
DTSTART:20260415T123000Z
DTEND:20260415T150000Z
LOCATION:Kirchgemeindehaus\, \,
TRANSP:OPAQUE
SEQUENCE:0
UID:17294-veranstaltung@rkk.ch
DTSTAMP:20260415T155827Z
DESCRIPTION:Buen Camino!\n\nIm Rahmen seines Sabbaticals hat Pfarrer René
  Weisstanner 2025 den Jakobsweg unter die Füsse genommen. Von Genf bis
  nach Santiago de Compostela wollte er in drei Monaten kommen. Daraus sind
  am Ende 2’300km und 40’000 Höhenmeter geworden. Mit den vielen
  Begegnungen\, Naturerlebnissen und kulturellen Höhepunkten wurde für
  ihn dieses Projekt zu einem unvergesslichen Abenteuer. Anhand von Bildern
  und Erzählungen lässt er eine interessierte Zuhörerschaft gerne daran
  teilhaben.\n\n\nIm Anschluss an den Vortrag sind Sie herzlich zu Kaffee
  und Kuchen eingeladen. \n\n\n\nKontakt: Sandra Stylianou\, 044 914 20 45
 \n\nWeitere Infos: https://www.rkk.ch/veranstaltung/17294
SUMMARY:Kultur am Nachmittag: Jakobsweg-Buen Camino
PRIORITY:5
X-MICROSOFT-CDO-IMPORTANCE:1
CLASS:PUBLIC
END:VEVENT
END:VCALENDAR
