BEGIN:VCALENDAR
PRODID:-//kirchenweb.ch gmbh//veranstaltungsausgabe v2.0//DE
VERSION:2.0
METHOD:PUBLISH
BEGIN:VEVENT
DTSTART:20260416T140000Z
DTEND:20260416T170000Z
LOCATION:Kirchgemeindehaus\, Untere Heslibachstrasse 5\, 8700 Küsnacht
TRANSP:OPAQUE
SEQUENCE:0
UID:16658-veranstaltung@rkk.ch
DTSTAMP:20260409T062829Z
DESCRIPTION:Folgende gut erhaltene und saubere Artikel werden gerne
  angenommen:\n\nAccessoires\, Nippes | Bilder | Bücher | Fotoapparate |
  Geschirr\, Gläser\, Besteck | Kleider\, Schuhe\, Lederwaren |
  Kleinmöbel | Küchenutensilien | Lampen | Spielsachen |
  Unterhaltungselektronik\n\n\nDiese Artikel können wir leider nicht
  annehmen:\n\nBetten | Bettwäsche | Computer | Fernseher | Grossmöbel |
  Kinderkleider | Matratzen | Schreibmaschinen | Sammelbände | Silva- und
  Mondo-Bücher | Tischtücher und Vorhänge | Tonbänder | Videokassetten
  | Wintersportartikel\n\nKontakt: Brigitte Meier\, 044 914 20 44\n
 \nWeitere Infos: https://www.rkk.ch/veranstaltung/16658
SUMMARY:Annahme Flohmarkt
PRIORITY:5
X-MICROSOFT-CDO-IMPORTANCE:1
CLASS:PUBLIC
END:VEVENT
END:VCALENDAR
