BEGIN:VCALENDAR
PRODID:-//kirchenweb.ch gmbh//veranstaltungsausgabe v2.0//DE
VERSION:2.0
METHOD:PUBLISH
BEGIN:VEVENT
DTSTART;VALUE=DATE:20260427
DTEND;VALUE=DATE:20260428
LOCATION:Auswärts\, \,
TRANSP:OPAQUE
SEQUENCE:0
UID:16417-veranstaltung@rkk.ch
DTSTAMP:20250619T101658Z
DESCRIPTION:Kontakt: Pfr. Fabian Wildenauer\, 044 914 20 43\n\nWeitere
  Infos: https://www.rkk.ch/veranstaltung/16417
SUMMARY:Konflager
PRIORITY:5
X-MICROSOFT-CDO-IMPORTANCE:1
CLASS:PUBLIC
END:VEVENT
END:VCALENDAR
