BEGIN:VCALENDAR
PRODID:-//kirchenweb.ch gmbh//veranstaltungsausgabe v2.0//DE
VERSION:2.0
METHOD:PUBLISH
BEGIN:VEVENT
DTSTART:20251124T080000Z
DTEND:20251124T083000Z
LOCATION:Kirchgemeindehaus\, Untere Heslibachstrasse 5\, 8700 Küsnacht
TRANSP:OPAQUE
SEQUENCE:0
UID:16391-veranstaltung@rkk.ch
DTSTAMP:20251121T063842Z
DESCRIPTION:Lieder und Versli\n\nKontakt: Pfrn. Jenny Laske\, 044 914 20
  48\n\nWeitere Infos: https://www.rkk.ch/veranstaltung/16391
SUMMARY:Singe mit de Chliine\, Gruppe 1
PRIORITY:5
X-MICROSOFT-CDO-IMPORTANCE:1
CLASS:PUBLIC
END:VEVENT
END:VCALENDAR
