BEGIN:VCALENDAR
PRODID:-//kirchenweb.ch gmbh//veranstaltungsausgabe v2.0//DE
VERSION:2.0
METHOD:PUBLISH
BEGIN:VEVENT
DTSTART:20260418T170000Z
DTEND:20260418T180000Z
LOCATION:Kirche\, \,
TRANSP:OPAQUE
SEQUENCE:0
UID:16271-veranstaltung@rkk.ch
DTSTAMP:20260419T180411Z
DESCRIPTION:Seit dem Riesenerfolg bei den Orgelkonzerten 2024 (Latry\,
  Bovet\, Meyer\, Nordstoga) sind wir der grossen Nachfrage gefolgt: Drei
  weitere hochkarätige Orgelkonzerte sollen in diesem Jahr in der
  reformierten Kirche die wunderschöne «Königin der Instrumente» zum
  Klingen bringen.\n\nDas erste Konzert am Samstag\, 18. April\, wird vom
  Ausnahmeorganisten Tobias Willi gespielt. Er ist Organist an der
  Johanneskirche Zürich und Professor für Orgel und Orgelimprovisation an
  der Zürcher Hochschule der Künste (ZHdK). \n\nProgramm:\n\nEintritt
  frei\, Kollekte\n\n\n\n\nKontakt: Christer Løvold\, 079 758 66 05\n
 \nWeitere Infos: https://www.rkk.ch/veranstaltung/16271
SUMMARY:Orgelkonzert mit Tobias Willi
PRIORITY:5
X-MICROSOFT-CDO-IMPORTANCE:1
CLASS:PUBLIC
END:VEVENT
END:VCALENDAR
