BEGIN:VCALENDAR
PRODID:-//kirchenweb.ch gmbh//veranstaltungsausgabe v2.0//DE
VERSION:2.0
METHOD:PUBLISH
BEGIN:VEVENT
DTSTART:20251213T080000Z
DTEND:20251213T140000Z
LOCATION:Kirchgemeindehaus\, Untere Heslibachstrasse 5\, 8700 Küsnacht
TRANSP:OPAQUE
SEQUENCE:0
UID:16076-veranstaltung@rkk.ch
DTSTAMP:20250723T122949Z
DESCRIPTION:Der 3. Klass - Unti findet im Schuljahr 2026/2027 Fünf mal an
  einem Samstag von 9 Uhr bis 15 Uhr im Kirchgemeindehaus mit Mittagessen
  statt.\n\nDer Unterricht beinhaltet folgende Themen \n- Taufe\n- Beten\n-
  Abendmahl\n- Pfingsten\n\nKontakt: Sandra Camenisch\, 076 527 15 12 \n\n
 \nWeitere Infos: https://www.rkk.ch/veranstaltung/16076
SUMMARY:3. Klass-Unti Thema Taufe II\, Samstag
PRIORITY:5
X-MICROSOFT-CDO-IMPORTANCE:1
CLASS:PUBLIC
END:VEVENT
END:VCALENDAR
