BEGIN:VCALENDAR
PRODID:-//kirchenweb.ch gmbh//veranstaltungsausgabe v2.0//DE
VERSION:2.0
METHOD:PUBLISH
BEGIN:VEVENT
DTSTART:20251122T090000Z
DTEND:20251122T150000Z
LOCATION:Jürgehus\, Untere Heslibachstrasse 2\, 8700 Küsnacht
TRANSP:OPAQUE
SEQUENCE:0
UID:16021-veranstaltung@rkk.ch
DTSTAMP:20251120T073324Z
DESCRIPTION:Was passiert\, wenn ein Mensch stirbt? Wie können wir
  sterbende Menschen unterstützen und begleiten? Wo erhalten wir
  professionelle Unterstützung? Und: wie können wir uns auf unser eigenes
  Lebensende vorbereiten? Im «Letzte Hilfe»-Kurs werden wir ermutigt\,
  sterbenden Menschen beizustehen und sich mit der eigenen Endlichkeit
  auseinanderzusetzen. Der Kurs vermittelt Basiswissen und steht allen
  interessierten Erwachsenen offen. Du musst keine Vorkenntnisse
  mitbringen. \n\nDie Themen werden sein: \n \n1.    Sterben ist ein Teil
  des Lebens\n2.    Vorsorgen und Entscheiden\n3.    Leiden lindern\n4.   
  Abschied nehmen\n\n\nDie Referentinnen sind Eva Niedermann und Pfrn.
  Helen Trautvetter\,  (Abteilung Kirchenentwicklung Ref. ZH/
  Projektleitung Letzte Hilfe Kurse Schweiz )\n
 \nhttps://vimeo.com/754659930/f3c70d5b9f?embedded=true&source=vimeo_logo&o
 wner=97573628 \n \n \n\n\n\nKontakt: Sandra Stylianou\, 044 914 20 45\n
 \nWeitere Infos: https://www.rkk.ch/veranstaltung/16021
SUMMARY:Ausgebucht! Letzte Hilfe Kurs
PRIORITY:5
X-MICROSOFT-CDO-IMPORTANCE:1
CLASS:PUBLIC
END:VEVENT
END:VCALENDAR
