BEGIN:VCALENDAR
PRODID:-//kirchenweb.ch gmbh//veranstaltungsausgabe v2.0//DE
VERSION:2.0
METHOD:PUBLISH
BEGIN:VEVENT
DTSTART:20260402T153000Z
DTEND:20260402T164500Z
LOCATION:Kirchgemeindehaus\, Untere Heslibachstrasse 5\, 8700 Küsnacht
TRANSP:OPAQUE
SEQUENCE:0
UID:15361-veranstaltung@rkk.ch
DTSTAMP:20260402T050941Z
DESCRIPTION:Wir alle kennen es. Schon früh heisst es: "Du darfst dies
  oder jenes nicht tun". Und schon bald wird ergänzt: "Tu dies oder tu
  jenes". Solche Gesetze und Weisungen gibt es auch im öffentlichen Raum.
  Polizistin\, Sandra Walser\, befasst sich mit der Aufklärung
  jugendspezifischer Straftaten\, sowie der Intervention und Prävention.
 \nSie wird aus ihrem Alltag erzählen und wir können ihr Fragen zu ihrer
  Arbeit stellen.\n\n\nKontakt: Pfr. Fabian Wildenauer\, 044 914 20 43\n
 \nWeitere Infos: https://www.rkk.ch/veranstaltung/15361
SUMMARY:Konfprojekt «Polizei»
PRIORITY:5
X-MICROSOFT-CDO-IMPORTANCE:1
CLASS:PUBLIC
END:VEVENT
END:VCALENDAR
