BEGIN:VCALENDAR
PRODID:-//kirchenweb.ch gmbh//veranstaltungsausgabe v2.0//DE
VERSION:2.0
METHOD:PUBLISH
BEGIN:VEVENT
DTSTART:20251126T130000Z
DTEND:20251126T170000Z
LOCATION:Jürgehus\, Untere Heslibachstrasse 2\, 8700 Küsnacht
TRANSP:OPAQUE
SEQUENCE:0
UID:15237-veranstaltung@rkk.ch
DTSTAMP:20251023T073443Z
DESCRIPTION:Der Duft von Guetzli liegt in der Luft und die Vorbereitungen
  für das grosse Fest sind im Gange. Jetzt einen Gang herunterschalten und
  in aller Ruhe eine Kerze ziehen oder einen Kaffee trinken. \n\nDer Erlös
  geht vollumfänglich an die Organisation https://spielzeit.ch/.\n\nIm
  Adventskafi gibt es Kaffee & Kuchen\, Hotdogs und sonntags zusätzlich
  Racelette.\nWir freuen uns auf Ihren Besuch!\n\nKontakt: Rainer Käser\,
  044 914 20 47\n\nWeitere Infos: https://www.rkk.ch/veranstaltung/15237
SUMMARY:Kerzenziehen /Adventskafi
PRIORITY:5
X-MICROSOFT-CDO-IMPORTANCE:1
CLASS:PUBLIC
END:VEVENT
END:VCALENDAR
