BEGIN:VCALENDAR
PRODID:-//kirchenweb.ch gmbh//veranstaltungsausgabe v2.0//DE
VERSION:2.0
METHOD:PUBLISH
BEGIN:VEVENT
DTSTART:20251119T163000Z
DTEND:20251119T174500Z
LOCATION:Kirchgemeindehaus\, Untere Heslibachstrasse 5\, 8700 Küsnacht
TRANSP:OPAQUE
SEQUENCE:0
UID:15142-veranstaltung@rkk.ch
DTSTAMP:20251119T121026Z
DESCRIPTION:Kontakt: Pfrn. Jenny Laske\, 044 914 20 48\n\nWeitere Infos:
  https://www.rkk.ch/veranstaltung/15142
SUMMARY:Konfunterricht\, Mittwochsklasse
PRIORITY:5
X-MICROSOFT-CDO-IMPORTANCE:1
CLASS:PUBLIC
END:VEVENT
END:VCALENDAR
