BEGIN:VCALENDAR
PRODID:-//kirchenweb.ch gmbh//veranstaltungsausgabe v2.0//DE
VERSION:2.0
METHOD:PUBLISH
BEGIN:VEVENT
DTSTART:20260517T080000Z
DTEND:20260517T090000Z
LOCATION:Kirche\, Untere Heslibachstrasse 4\, 8700 Küsnacht
TRANSP:OPAQUE
SEQUENCE:0
UID:14518-veranstaltung@rkk.ch
DTSTAMP:20260105T105913Z
DESCRIPTION:anschliessend Kirchenkaffee\n\nKontakt: Pfr. René Weisstanner
 \n\nWeitere Infos: https://www.rkk.ch/veranstaltung/14518
SUMMARY:Gottesdienst
PRIORITY:5
X-MICROSOFT-CDO-IMPORTANCE:1
CLASS:PUBLIC
END:VEVENT
END:VCALENDAR
