BEGIN:VCALENDAR
PRODID:-//kirchenweb.ch gmbh//veranstaltungsausgabe v2.0//DE
VERSION:2.0
METHOD:PUBLISH
BEGIN:VEVENT
DTSTART:20260406T080000Z
DTEND:20260406T090000Z
LOCATION:Limberg Mehrzweckraum\, Wangen 5\, 8127 Forch
TRANSP:OPAQUE
SEQUENCE:0
UID:14160-veranstaltung@rkk.ch
DTSTAMP:20260407T060933Z
DESCRIPTION:«Der Herr ist auferstanden – Er ist wahrhaftig
  auferstanden!»\n\nDiese Osterbegrüssung in Dialogform stammte aus der
  frühen Kirche und zeugte von der gemeinsamen Hoffnung der christlichen
  Gemeinden auf die Auferstehung. Gerade in den tiefsten Momenten des
  Lebens – in Tod\, Enttäuschung\, Fragen und Zweifeln – erfuhren sie
  eine Hoffnung und Freude\, die sich dem Sichtbaren entzog und doch im
  Glauben gründete.\n\nIhr Glaube\, der über das Sichtbare hinauswies\,
  prägt unsere Zeit und lädt uns auch heute ein\, Hoffnung zu leben\,
  Freude zu teilen und Gemeinschaft zu erfahren. Herzlich laden wir Sie
  ein\, diese alte und zugleich lebendige Osterhoffnung mit uns beim
  Abendmahl in Limberg mitzuerleben.\n\nDie Gemeinde in Limberg wird auch
  zwei Konfirmandinnen aus diesem Konfjahr\, Abigail Garcia und Mercedes
  Weber\, kennenlernen und etwas über das Leben der heutigen Jugendlichen
  erfahren.\n\nIm Anschluss Apéro.\n\nKontakt: Pfrn. Jenny Laske\n
 \nWeitere Infos: https://www.rkk.ch/veranstaltung/14160
SUMMARY:Gottesdienst zum Ostermontag
PRIORITY:5
X-MICROSOFT-CDO-IMPORTANCE:1
CLASS:PUBLIC
END:VEVENT
END:VCALENDAR
