BEGIN:VCALENDAR
PRODID:-//kirchenweb.ch gmbh//veranstaltungsausgabe v2.0//DE
VERSION:2.0
METHOD:PUBLISH
BEGIN:VEVENT
DTSTART:20250117T163000Z
DTEND:20250117T171500Z
LOCATION:Jürgehus\, Untere Heslibachstrasse 2\, 8700 Küsnacht
TRANSP:OPAQUE
SEQUENCE:0
UID:13921-veranstaltung@rkk.ch
DTSTAMP:20250108T100313Z
DESCRIPTION:Dieser besondere\, interaktive Jugendgottesdienst wird von
  Rainer Käser und Pfr. Fabian Wildenauer gestaltet. Du bist eingeladen
  mitzuwirken und auch Themenvorschläge sind jederzeit willkommen.\n
 \nKontakt: Rainer Käser\, 044 914 20 47\n\nWeitere Infos:
  https://www.rkk.ch/veranstaltung/13921
SUMMARY:Spezial Jugendgottesdienst
PRIORITY:5
X-MICROSOFT-CDO-IMPORTANCE:1
CLASS:PUBLIC
END:VEVENT
END:VCALENDAR
