BEGIN:VCALENDAR
PRODID:-//kirchenweb.ch gmbh//veranstaltungsausgabe v2.0//DE
VERSION:2.0
METHOD:PUBLISH
BEGIN:VEVENT
DTSTART:20251125T110000Z
DTEND:20251125T123000Z
LOCATION:Kirchgemeindehaus\, Untere Heslibachstrasse 5\, 8700 Küsnacht
TRANSP:OPAQUE
SEQUENCE:0
UID:13477-veranstaltung@rkk.ch
DTSTAMP:20251125T063358Z
DESCRIPTION:Der 3. Klass-Unti findet im Schuljahr 2025/2026 wöchentlich
  am Dienstag von 12.00 Uhr bis 13.20 Uhr im Kirchgemeindehaus mit einem
  einfachen Mittagessen statt. Die Kinder vom Goldbach werden mit dem Bus
  vor dem Schulhaus abgeholt und zurück gefahren.\nDer Unterricht
  beinhaltet folgende Themen \n- Taufe\n- Beten\n- Abendmahl\n- Pfingsten\n
 \nKontakt: Sandra Camenisch\, 076 527 15 12\n\nWeitere Infos:
  https://www.rkk.ch/veranstaltung/13477
SUMMARY:3. Klass-Unti Dorf/Goldbach\, Dienstag
PRIORITY:5
X-MICROSOFT-CDO-IMPORTANCE:1
CLASS:PUBLIC
END:VEVENT
END:VCALENDAR
