BEGIN:VCALENDAR
PRODID:-//kirchenweb.ch gmbh//veranstaltungsausgabe v2.0//DE
VERSION:2.0
METHOD:PUBLISH
BEGIN:VEVENT
DTSTART:20251124T110000Z
DTEND:20251124T123000Z
LOCATION:Kirchgemeindehaus\, Untere Heslibachstrasse 5\, 8700 Küsnacht
TRANSP:OPAQUE
SEQUENCE:0
UID:13404-veranstaltung@rkk.ch
DTSTAMP:20251121T064146Z
DESCRIPTION:Der 3. Klass-Unti findet im Schuljahr 2025/2026 wöchentlich
  am Montag von 12.00 - 13.30 Uhr im Kirchgemeindehaus mit einem einfachen
  Mittagessen statt. Die Kinder vom Limberg und von Itschnach werden mit
  dem Bus vor dem Schulhaus abgeholt und wieder zurückgefahren.\n\nDer
  Unterricht beinhaltet folgende Themen \n- Taufe\n- Beten\n- Abendmahl\n-
  Pfingsten\n\nKontakt: Pfrn. Jenny Laske\, 044 914 20 48\n\nWeitere Infos:
  https://www.rkk.ch/veranstaltung/13404
SUMMARY:3. Klass-Unti Limberg/Itschnach\, Montag
PRIORITY:5
X-MICROSOFT-CDO-IMPORTANCE:1
CLASS:PUBLIC
END:VEVENT
END:VCALENDAR
