BEGIN:VCALENDAR
PRODID:-//kirchenweb.ch gmbh//veranstaltungsausgabe v2.0//DE
VERSION:2.0
METHOD:PUBLISH
BEGIN:VEVENT
DTSTART:20251213T090000Z
DTEND:20251213T100000Z
LOCATION:Kirche\, Untere Heslibachstrasse 4\, 8700 Küsnacht
TRANSP:OPAQUE
SEQUENCE:0
UID:12720-veranstaltung@rkk.ch
DTSTAMP:20251208T154739Z
DESCRIPTION:Ein Angebot für kleine Kinder im Vorschulalter und ihre
  Eltern oder Begleitpersonen. Es wird eine Geschichte erzählt\, gesungen
  und gefeiert. Die Kinder erleben Gemeinschaft und staunen über die
  Geheimnisse des Glaubens. Anschliessend treffen sich alle zum Brunch.\n
 \nKontakt: Pfrn. Jenny Laske\n\nWeitere Infos:
  https://www.rkk.ch/veranstaltung/12720
SUMMARY:Fiire mit de Chliine
PRIORITY:5
X-MICROSOFT-CDO-IMPORTANCE:1
CLASS:PUBLIC
END:VEVENT
END:VCALENDAR
