BEGIN:VCALENDAR
PRODID:-//kirchenweb.ch gmbh//veranstaltungsausgabe v2.0//DE
VERSION:2.0
METHOD:PUBLISH
BEGIN:VEVENT
DTSTART:20251126T133000Z
DTEND:20251126T140000Z
LOCATION:Kirche\, Untere Heslibachstrasse 4\, 8700 Küsnacht
TRANSP:OPAQUE
SEQUENCE:0
UID:12683-veranstaltung@rkk.ch
DTSTAMP:20251124T121400Z
DESCRIPTION:Am Küsnachter Adventsmarkt werden Kinder im bunten
  Baldachinzelt in der Kirche zu spannenden\, lustigen und von Geigenmusik
  umrahmten Märchenstunden empfangen.\n\nKontakt: Rainer Käser\, 044 914
  20 47\n\nWeitere Infos: https://www.rkk.ch/veranstaltung/12683
SUMMARY:Märlizält
PRIORITY:5
X-MICROSOFT-CDO-IMPORTANCE:1
CLASS:PUBLIC
END:VEVENT
END:VCALENDAR
