BEGIN:VCALENDAR
PRODID:-//kirchenweb.ch gmbh//veranstaltungsausgabe v2.0//DE
VERSION:2.0
METHOD:PUBLISH
BEGIN:VEVENT
DTSTART:20250120T080000Z
DTEND:20250120T100000Z
LOCATION:Kirchgemeindehaus\, Untere Heslibachstrasse 5\, 8700 Küsnacht
TRANSP:OPAQUE
SEQUENCE:0
UID:12432-veranstaltung@rkk.ch
DTSTAMP:20240214T144347Z
DESCRIPTION:Basteln Sie gerne?\nBasteln und stricken Sie mit uns für
  einen guten Zweck. Wir treffen uns jeden Montag vormittag im
  Kirchgemeindehaus. \nWir freuen uns auf Sie! \n\nKontakt: Florentina
  Steiner\, 079 817 19 88\nSandra Stylianou\, 044 914 20 45\n\nWeitere
  Infos: https://www.rkk.ch/veranstaltung/12432
SUMMARY:Werkatelier Basar
PRIORITY:5
X-MICROSOFT-CDO-IMPORTANCE:1
CLASS:PUBLIC
END:VEVENT
END:VCALENDAR
